Workbook

Sheet Batting
C2: Beavers Cricket Club Sydney Inc.
C3: Batting averages
C4: Season 2013/14
A6: First Name | B6: Last Name | C6: Innings | D6: NO | E6: Ducks | F6: Runs | G6: HS | H6: Average | I6: Rank | J6: Sort
A7: Andrew | B7: Frith | C7: =1+1+1+1+1+1+1+1+1+1 -> 10 | D7: 1 | F7: =18+30+34+25+4+42+21+71+4+65 -> 314 | G7: 71 | H7: =IF(C7-D7>0,F7/(C7-D7),"No Avg") -> 34.888889 | I7: 1 | J7: 3
A8: Duncan | B8: Peacocke | C8: =1+1+1+1+1+1 -> 6 | D8: 1 | E8: 1 | F8: =4+20+84+0+17+16 -> 141 | G8: 84 | H8: =IF(C8-D8>0,F8/(C8-D8),"No Avg") -> 28.2 | I8: 2 | J8: 8
A9: Ed | B9: Milne | C9: =1+1+1+1+1+1 -> 6 | D9: 2 | F9: =14+29+43+20+1+1 -> 108 | G9: 43 | H9: =IF(C9-D9>0,F9/(C9-D9),"No Avg") -> 27 | I9: 3 | J9: 9
A10: Pat | B10: Marzano | C10: =1+1+1+1+1+1+1+1+1 -> 9 | F10: =50+25+8+12+50+56+18+11+9 -> 239 | G10: 56 | H10: =IF(C10-D10>0,F10/(C10-D10),"No Avg") -> 26.555556 | I10: 4 | J10: 32
A11: Geoff | B11: Strudwick | C11: =1+1+1+1+1+1 -> 6 | F11: =12+7+60+44+12+7 -> 142 | G11: 60 | H11: =IF(C11-D11>0,F11/(C11-D11),"No Avg") -> 23.666667 | I11: 5 | J11: 11
A12: Hamilton | B12: Becher | C12: =1+1+1+1+1+1 -> 6 | D12: =1+1 -> 2 | F12: =3+45+6+7+15+15 -> 91 | G12: 45* | H12: =IF(C12-D12>0,F12/(C12-D12),"No Avg") -> 22.75 | I12: 6 | J12: 13
A13: Oli | B13: Derum | C13: =1+1+1+1+1+1 -> 6 | E13: 2 | F13: =51+29+0+22+0+20 -> 122 | G13: 51 | H13: =IF(C13-D13>0,F13/(C13-D13),"No Avg") -> 20.333333 | I13: 7 | J13: 31
A14: Majid | B14: Javed | C14: =1+1+1+1+1 -> 5 | F14: =62+3+7+4+2 -> 78 | G14: 62 | H14: =IF(C14-D14>0,F14/(C14-D14),"No Avg") -> 15.6 | I14: 8 | J14: 24
A15: Ben | B15: Shields | C15: =1+1+1+1+1+1+1+1+1+1+1+1 -> 12 | D15: =1+1 -> 2 | F15: =27+1+7+8+20+20+7+33+1+14+6+6 -> 150 | G15: 33 | H15: =IF(C15-D15>0,F15/(C15-D15),"No Avg") -> 15 | I15: 9 | J15: 4
A16: Puneet | B16: Sharma | C16: =1+1+1+1+1+1+1+1 -> 8 | D16: =1+1 -> 2 | E16: 1 | F16: =1+11+20+16+4+2+12+0 -> 66 | G16: 20 | H16: =IF(C16-D16>0,F16/(C16-D16),"No Avg") -> 11 | I16: 10 | J16: 36
A17: Peter | B17: Whitehead | C17: =1+1+1+1+1+1+1 -> 7 | E17: 1 | F17: =19+6+18+19+3+0+9 -> 74 | G17: 19 | H17: =IF(C17-D17>0,F17/(C17-D17),"No Avg") -> 10.571429 | I17: 11 | J17: 34
A18: Ivan | B18: Gorridge | C18: =1+1+1+1+1+1+1+1+1+1 -> 10 | D18: 1 | E18: 1 | F18: =13+7+4+0+30+1+4+4+6+24 -> 93 | G18: 30 | H18: =IF(C18-D18>0,F18/(C18-D18),"No Avg") -> 10.333333 | I18: 12 | J18: 16
A19: Paul | B19: Bochard | C19: =1+1+1+1+1+1+1 -> 7 | D19: 2 | E19: 4 | F19: =9+18+0+0+3+0+0 -> 30 | G19: 18* | H19: =IF(C19-D19>0,F19/(C19-D19),"No Avg") -> 6 | I19: 13 | J19: 33
A20: Hamza | B20: Mehmood | C20: =1+1 -> 2 | D20: 1 | F20: 45 | G20: 45 | H20: =IF(C20-D20>0,F20/(C20-D20),"No Avg") -> 45 | I20: 14 | J20: 14 | M20: =8*24 -> 192
A21: Sam | B21: Farrington | C21: =1+1+1 -> 3 | F21: =67+12+23 -> 102 | G21: 67 | H21: =IF(C21-D21>0,F21/(C21-D21),"No Avg") -> 34 | I21: 15 | J21: 41
A22: Charu | B22: Charu | C22: 1 | F22: 16 | G22: 16 | H22: =IF(C22-D22>0,F22/(C22-D22),"No Avg") -> 16 | I22: 16 | J22: 5
A23: Rajat | B23: Saini | C23: =1+1+1 -> 3 | D23: 1 | F23: =22+3+5 -> 30 | G23: 22* | H23: =IF(C23-D23>0,F23/(C23-D23),"No Avg") -> 15 | I23: 17 | J23: 38
A24: Josh | B24: Crawford | C24: =1+1+1+1 -> 4 | D24: 1 | E24: 1 | F24: =9+2+0+31 -> 42 | G24: 31 | H24: =IF(C24-D24>0,F24/(C24-D24),"No Avg") -> 14 | I24: 18 | J24: 21
A25: Fahad | B25: Saeed | C25: =1+1+1 -> 3 | D25: 1 | E25: 1 | F25: =23+2+0 -> 25 | G25: 23 | H25: =IF(C25-D25>0,F25/(C25-D25),"No Avg") -> 12.5 | I25: 19 | J25: 10
A26: Hasib | B26: Tayef | C26: 1 | F26: 11 | G26: 11 | H26: =IF(C26-D26>0,F26/(C26-D26),"No Avg") -> 11 | I26: 20 | J26: 15
A27: Nic | B27: Oconnor | C27: 1 | F27: 9 | G27: 9 | H27: =IF(C27-D27>0,F27/(C27-D27),"No Avg") -> 9 | I27: 21 | J27: 29
A28: Alex | B28: Nicholas | C28: =1 -> 1 | F28: 6 | G28: 6 | H28: =IF(C28-D28>0,F28/(C28-D28),"No Avg") -> 6 | I28: 22 | J28: 2
A29: James | B29: Scully | C29: =1+1+1+1 -> 4 | D29: 1 | E29: 1 | F29: =0+1+12+1 -> 14 | G29: 12 | H29: =IF(C29-D29>0,F29/(C29-D29),"No Avg") -> 4.6666667 | I29: 23 | J29: 18
A30: Ram | B30: Subbiah | C30: =1+1+1+1 -> 4 | E30: 1 | F30: =6+0+4+1 -> 11 | G30: 6 | H30: =IF(C30-D30>0,F30/(C30-D30),"No Avg") -> 2.75 | I30: 24 | J30: 37
A31: Joe | B31: Quarello | C31: 1 | F31: 2 | G31: 2 | H31: =IF(C31-D31>0,F31/(C31-D31),"No Avg") -> 2 | I31: 25 | J31: 20
A32: Adrian | B32: Bell | C32: =1+1+1 -> 3 | D32: 1 | E32: 1 | F32: =3+0 -> 3 | G32: 3 | H32: =IF(C32-D32>0,F32/(C32-D32),"No Avg") -> 1.5 | I32: 26 | J32: 1
A33: Josh | B33: Gordon | C33: =1+1 -> 2 | E33: 2 | F33: =0+0 -> 0 | G33: 0 | H33: =IF(C33-D33>0,F33/(C33-D33),"No Avg") -> 0 | I33: 27 | J33: 22
A34: Phil | B34: Marchonni | C34: 1 | E34: 1 | F34: 0 | G34: 0 | H34: =IF(C34-D34>0,F34/(C34-D34),"No Avg") -> 0 | I34: 28 | J34: 35
A35: Rod | B35: Bowey | C35: 1 | E35: 1 | F35: 0 | G35: 0 | H35: =IF(C35-D35>0,F35/(C35-D35),"No Avg") -> 0 | I35: 29 | J35: 39
A36: James | B36: Duncan | C36: 1 | D36: 1 | F36: 1 | G36: 1* | H36: =IF(C36-D36>0,F36/(C36-D36),"No Avg") -> No Avg | I36: 30 | J36: 17
A37: Jeremy | B37: Gilling | C37: =1+1+1 -> 3 | D37: =1+1+1 -> 3 | F37: 1 | G37: 1* | H37: =IF(C37-D37>0,F37/(C37-D37),"No Avg") -> No Avg | I37: 30 | J37: 19
A38: Nicky | B38: Jhingan | C38: 1 | D38: 1 | F38: 4 | G38: 4* | H38: =IF(C38-D38>0,F38/(C38-D38),"No Avg") -> No Avg | I38: 30 | J38: 30
A39: Mr | B39: Extras | F39: =8+10+4+1+8+10+10+19+12+8+5+6+3+2+4 -> 110 | G39: 10 | H39: =IF(C39-D39>0,F39/(C39-D39),"No Avg") -> No Avg | I39: 30 | J39: 43
A40: Charlie | B40: Macdonald | J40: 6
A41: Chris | B41: Marsh | J41: 7
A42: George | B42: Macdonald | J42: 12
...

Sheet Bowling
C2: Beavers Cricket Club Sydney Inc. | K2: 1st
C3: Bowling averages | K3: 2nd
C4: Season 2013/14 | K4: 3rd
A6: First Name | B6: Last Name | C6: # of innings bowled | D6: Overs | E6: Maidens | F6: Wides | G6: NB | H6: Wickets | I6: Runs | J6: Best Bowling | K6: Avg. | L6: Econ. | M6: Strike Rate | N6: Rank Wickets | O6: Rank average | P6: Rank Economy | Q6: Rank Strike | R6: Sort
A7: Adrian | B7: Bell | C7: 8 | D7: =7+5+6+3+8+4+8+11 -> 52 | E7: =1+1+2 -> 4 | F7: =5+4+2 -> 11 | G7: =2+4+1 -> 7 | H7: =4+1+2+2+3+3+6 -> 21 | I7: =34+17+24+27+49+12+42+37 -> 242 | J7: 6/37 | K7: =IF(H7=0,"No Avg.",I7/H7) -> 11.52381 | L7: =IF(D7=0,"N/A",I7/D7) -> 4.6538462 | M7: =IF(H7=0,"N/A",(INT(D7)*6+D7-INT(D7))/H7) -> 14.857143 | N7: 1 | O7: 1 | P7: 5 | Q7: 1 | R7: 1
A8: Ed | B8: Milne | C8: 6 | D8: =4+4+5+8+3+5 -> 29 | E8: =1+1+1+2+1 -> 6 | H8: =1+1+2+2+1+1 -> 8 | I8: =13+13+26+24+21+26 -> 123 | J8: 2/24 | K8: =IF(H8=0,"No Avg.",I8/H8) -> 15.375 | L8: =IF(D8=0,"N/A",I8/D8) -> 4.2413793 | M8: =IF(H8=0,"N/A",(INT(D8)*6+D8-INT(D8))/H8) -> 21.75 | N8: 5 | O8: 2 | P8: 2 | Q8: 4 | R8: 9
A9: Puneet | B9: Sharma | C9: 10 | D9: =7+5.3+2+8+3+4+7+3+4.9+9 -> 53.2 | E9: 2 | G9: 1 | H9: =5+3+2+1+1+1+2 -> 15 | I9: =20+24+14+38+27+31+44+17+11+16 -> 242 | J9: 5/20 | K9: =IF(H9=0,"No Avg.",I9/H9) -> 16.133333 | L9: =IF(D9=0,"N/A",I9/D9) -> 4.5488722 | M9: =IF(H9=0,"N/A",(INT(D9)*6+D9-INT(D9))/H9) -> 21.213333 | N9: 2 | O9: 3 | P9: 4 | Q9: 3 | R9: 36
A10: Duncan | B10: Peacocke | C10: 7 | D10: =4+4+7+5+7+3+8 -> 38 | E10: =1+2 -> 3 | F10: 1 | H10: =2+1+2+1+2+2+2 -> 12 | I10: =18+33+22+19+40+17+14+36 -> 199 | J10: 2/18 | K10: =IF(H10=0,"No Avg.",I10/H10) -> 16.583333 | L10: =IF(D10=0,"N/A",I10/D10) -> 5.2368421 | M10: =IF(H10=0,"N/A",(INT(D10)*6+D10-INT(D10))/H10) -> 19 | N10: 3 | O10: 4 | P10: 7 | Q10: 2 | R10: 8
A11: James | B11: Scully | C11: 7 | D11: =6+8+8+10.1+10+8+9 -> 59.1 | E11: =1+2+3+1 -> 7 | F11: =1+1 -> 2 | G11: 1 | H11: =2+1+1+1+3+1+1 -> 10 | I11: =16+37+31+28+40+30+25 -> 207 | J11: 3/40 | K11: =IF(H11=0,"No Avg.",I11/H11) -> 20.7 | L11: =IF(D11=0,"N/A",I11/D11) -> 3.5025381 | M11: =IF(H11=0,"N/A",(INT(D11)*6+D11-INT(D11))/H11) -> 35.41 | N11: 4 | O11: 5 | P11: 1 | Q11: 6 | R11: 17
A12: Fahad | B12: Saeed | C12: 5 | D12: =7+6+5+6+5 -> 29 | E12: =2+1+2 -> 5 | H12: =0+2+1+2+0 -> 5 | I12: =15+30+34+22+24 -> 125 | J12: 2/22 | K12: =IF(H12=0,"No Avg.",I12/H12) -> 25 | L12: =IF(D12=0,"N/A",I12/D12) -> 4.3103448 | M12: =IF(H12=0,"N/A",(INT(D12)*6+D12-INT(D12))/H12) -> 34.8 | N12: 6 | O12: 6 | P12: 3 | Q12: 5 | R12: 10
A13: Paul | B13: Bochard | C13: 6 | D13: =5+5+8+4+3+6 -> 31 | H13: =2+2+1 -> 5 | I13: =25+24+46+22+12+26 -> 155 | J13: 2/12 | K13: =IF(H13=0,"No Avg.",I13/H13) -> 31 | L13: =IF(D13=0,"N/A",I13/D13) -> 5 | M13: =IF(H13=0,"N/A",(INT(D13)*6+D13-INT(D13))/H13) -> 37.2 | N13: 6 | O13: 7 | P13: 6 | Q13: 7 | R13: 33
A14: Charu | B14: Charu | C14: 1 | D14: 6 | E14: 1 | H14: 2 | I14: 13 | J14: 2/13 | K14: =IF(H14=0,"No Avg.",I14/H14) -> 6.5 | L14: =IF(D14=0,"N/A",I14/D14) -> 2.1666667 | M14: =IF(H14=0,"N/A",(INT(D14)*6+D14-INT(D14))/H14) -> 18 | N14: 12 | O14: 8 | P14: 8 | Q14: 11 | R14: 5
A15: Rajat | B15: Saini | C15: 1 | D15: 3 | F15: 3 | G15: 3 | H15: 3 | I15: 21 | J15: 3/21 | K15: =IF(H15=0,"No Avg.",I15/H15) -> 7 | L15: =IF(D15=0,"N/A",I15/D15) -> 7 | M15: =IF(H15=0,"N/A",(INT(D15)*6+D15-INT(D15))/H15) -> 6 | N15: 11 | O15: 9 | P15: 27 | Q15: 8 | R15: 37
A16: Richard | B16: Glover | C16: 1 | D16: 5 | H16: 2 | I16: 16 | J16: 2/16 | K16: =IF(H16=0,"No Avg.",I16/H16) -> 8 | L16: =IF(D16=0,"N/A",I16/D16) -> 3.2 | M16: =IF(H16=0,"N/A",(INT(D16)*6+D16-INT(D16))/H16) -> 15 | N16: 12 | O16: 10 | P16: 11 | Q16: 9 | R16: 40
A17: Ram | B17: Subbiah | C17: 3 | D17: =3+1+6 -> 10 | H17: =1+1+2 -> 4 | I17: =14+6+21 -> 41 | J17: 2/21 | K17: =IF(H17=0,"No Avg.",I17/H17) -> 10.25 | L17: =IF(D17=0,"N/A",I17/D17) -> 4.1 | M17: =IF(H17=0,"N/A",(INT(D17)*6+D17-INT(D17))/H17) -> 15 | N17: 8 | O17: 11 | P17: 17 | Q17: 9 | R17: 39
A18: Sam | B18: Farrington | C18: 3 | D18: =5+5+5 -> 15 | E18: 1 | H18: =2+1+1 -> 4 | I18: =15+15+20 -> 50 | J18: 2/15 | K18: =IF(H18=0,"No Avg.",I18/H18) -> 12.5 | L18: =IF(D18=0,"N/A",I18/D18) -> 3.3333333 | M18: =IF(H18=0,"N/A",(INT(D18)*6+D18-INT(D18))/H18) -> 22.5 | N18: 8 | O18: 12 | P18: 12 | Q18: 13 | R18: 41
A19: Jeremy | B19: Gilling | C19: 2 | D19: =7+3 -> 10 | E19: =1+1 -> 2 | H19: 2 | I19: =18+7 -> 25 | J19: 2/18 | K19: =IF(H19=0,"No Avg.",I19/H19) -> 12.5 | L19: =IF(D19=0,"N/A",I19/D19) -> 2.5 | M19: =IF(H19=0,"N/A",(INT(D19)*6+D19-INT(D19))/H19) -> 30 | N19: 12 | O19: 12 | P19: 9 | Q19: 17 | R19: 19
A20: Nicky | B20: Jhingan | C20: 1 | D20: 4 | F20: 1 | H20: 1 | I20: 13 | J20: 1/13 | K20: =IF(H20=0,"No Avg.",I20/H20) -> 13 | L20: =IF(D20=0,"N/A",I20/D20) -> 3.25 | M20: =IF(H20=0,"N/A",(INT(D20)*6+D20-INT(D20))/H20) -> 24 | N20: 18 | O20: 14 | P20: 12 | Q20: 14 | R20: 30
A21: Hasib | B21: Tayef | C21: 2 | D21: =8+8 -> 16 | G21: 1 | H21: =3+1 -> 4 | I21: =27+35 -> 62 | J21: 3/27 | K21: =IF(H21=0,"No Avg.",I21/H21) -> 15.5 | L21: =IF(D21=0,"N/A",I21/D21) -> 3.875 | M21: =IF(H21=0,"N/A",(INT(D21)*6+D21-INT(D21))/H21) -> 24 | N21: 8 | O21: 15 | P21: 16 | Q21: 14 | R21: 15
A22: Andrew | B22: Frith | C22: 1 | D22: 3 | H22: 1 | I22: 18 | J22: 1/18 | K22: =IF(H22=0,"No Avg.",I22/H22) -> 18 | L22: =IF(D22=0,"N/A",I22/D22) -> 6 | M22: =IF(H22=0,"N/A",(INT(D22)*6+D22-INT(D22))/H22) -> 18 | N22: 18 | O22: 16 | P22: 25 | Q22: 11 | R22: 3
A23: Hamza | B23: Mehmood | C23: 2 | D23: =5+4 -> 9 | E23: =2+1 -> 3 | H23: 1 | I23: =17+7 -> 24 | J23: 1/17 | K23: =IF(H23=0,"No Avg.",I23/H23) -> 24 | L23: =IF(D23=0,"N/A",I23/D23) -> 2.6666667 | M23: =IF(H23=0,"N/A",(INT(D23)*6+D23-INT(D23))/H23) -> 54 | N23: 18 | O23: 17 | P23: 10 | Q23: 22 | R23: 14
A24: Peter | B24: Whitehead | C24: 3 | D24: =3+4+4 -> 11 | H24: =1+1 -> 2 | I24: =16+15+22 -> 53 | J24: 1/16 | K24: =IF(H24=0,"No Avg.",I24/H24) -> 26.5 | L24: =IF(D24=0,"N/A",I24/D24) -> 4.8181818 | M24: =IF(H24=0,"N/A",(INT(D24)*6+D24-INT(D24))/H24) -> 33 | N24: 12 | O24: 18 | P24: 19 | Q24: 19 | R24: 35
A25: Nic | B25: Oconnor | C25: 1 | D25: 4 | H25: 1 | I25: 28 | J25: 1/28 | K25: =IF(H25=0,"No Avg.",I25/H25) -> 28 | L25: =IF(D25=0,"N/A",I25/D25) -> 7 | M25: =IF(H25=0,"N/A",(INT(D25)*6+D25-INT(D25))/H25) -> 24 | N25: 18 | O25: 19 | P25: 27 | Q25: 14 | R25: 29
A26: Michael | B26: Stone | C26: 1 | D26: 6 | E26: 1 | F26: 1 | H26: 1 | I26: 30 | J26: 1/30 | K26: =IF(H26=0,"No Avg.",I26/H26) -> 30 | L26: =IF(D26=0,"N/A",I26/D26) -> 5 | M26: =IF(H26=0,"N/A",(INT(D26)*6+D26-INT(D26))/H26) -> 36 | N26: 18 | O26: 20 | P26: 22 | Q26: 20 | R26: 26
A27: Hamilton | B27: Becher | C27: 3 | D27: =4.1+3+3 -> 10.1 | H27: 2 | I27: =18+37+27 -> 82 | J27: 2/37 | K27: =IF(H27=0,"No Avg.",I27/H27) -> 41 | L27: =IF(D27=0,"N/A",I27/D27) -> 8.1188119 | M27: =IF(H27=0,"N/A",(INT(D27)*6+D27-INT(D27))/H27) -> 30.05 | N27: 12 | O27: 21 | P27: 29 | Q27: 18 | R27: 13
A28: Josh | B28: Gordon | C28: 2 | D28: =5+9 -> 14 | E28: 1 | F28: 2 | G28: 5 | H28: 2 | I28: =35+57 -> 92 | J28: 2/57 | K28: =IF(H28=0,"No Avg.",I28/H28) -> 46 | L28: =IF(D28=0,"N/A",I28/D28) -> 6.5714286 | M28: =IF(H28=0,"N/A",(INT(D28)*6+D28-INT(D28))/H28) -> 42 | N28: 12 | O28: 22 | P28: 26 | Q28: 21 | R28: 21
A29: Majid | B29: Javed | C29: 3 | D29: =6+5+5 -> 16 | H29: 1 | I29: =31+22+23 -> 76 | J29: 1/23 | K29: =IF(H29=0,"No Avg.",I29/H29) -> 76 | L29: =IF(D29=0,"N/A",I29/D29) -> 4.75 | M29: =IF(H29=0,"N/A",(INT(D29)*6+D29-INT(D29))/H29) -> 96 | N29: 18 | O29: 23 | P29: 19 | Q29: 23 | R29: 24
A30: George | B30: Macdonald | C30: 1 | D30: 3 | H30: 0 | I30: 10 | J30: 0/10 | K30: =IF(H30=0,"No Avg.",I30/H30) -> No Avg. | L30: =IF(D30=0,"N/A",I30/D30) -> 3.3333333 | M30: =IF(H30=0,"N/A",(INT(D30)*6+D30-INT(D30))/H30) -> N/A | N30: 19 | O30: 24 | P30: 12 | Q30: 24 | R30: 12
A31: Sarkis | B31: Yessayan | C31: 1 | D31: 6 | H31: 0 | I31: 23 | J31: 0/23 | K31: =IF(H31=0,"No Avg.",I31/H31) -> No Avg. | L31: =IF(D31=0,"N/A",I31/D31) -> 3.8333333 | M31: =IF(H31=0,"N/A",(INT(D31)*6+D31-INT(D31))/H31) -> N/A | N31: 19 | O31: 24 | P31: 15 | Q31: 24 | R31: 42
A32: Mike | B32: Wilson | C32: 1 | D32: 6 | H32: 0 | I32: 26 | J32: 0/26 | K32: =IF(H32=0,"No Avg.",I32/H32) -> No Avg. | L32: =IF(D32=0,"N/A",I32/D32) -> 4.3333333 | M32: =IF(H32=0,"N/A",(INT(D32)*6+D32-INT(D32))/H32) -> N/A | N32: 19 | O32: 24 | P32: 18 | Q32: 24 | R32: 28
A33: Pat | B33: Marzano | C33: 1 | D33: 4 | H33: 0 | I33: 19 | J33: 0/19 | K33: =IF(H33=0,"No Avg.",I33/H33) -> No Avg. | L33: =IF(D33=0,"N/A",I33/D33) -> 4.75 | M33: =IF(H33=0,"N/A",(INT(D33)*6+D33-INT(D33))/H33) -> N/A | N33: 19 | O33: 24 | P33: 19 | Q33: 24 | R33: 32
A34: James | B34: Duncan | C34: 2 | D34: =5+6 -> 11 | E34: 1 | G34: =3+1 -> 4 | H34: 0 | I34: =30+32 -> 62 | J34: 0/30 | K34: =IF(H34=0,"No Avg.",I34/H34) -> No Avg. | L34: =IF(D34=0,"N/A",I34/D34) -> 5.6363636 | M34: =IF(H34=0,"N/A",(INT(D34)*6+D34-INT(D34))/H34) -> N/A | N34: 19 | O34: 24 | P34: 23 | Q34: 24 | R34: 18
A35: Oli | B35: Derum | C35: 3 | D35: =2+1+5 -> 8 | H35: 0 | I35: =19+5+23 -> 47 | J35: 0/5 | K35: =IF(H35=0,"No Avg.",I35/H35) -> No Avg. | L35: =IF(D35=0,"N/A",I35/D35) -> 5.875 | M35: =IF(H35=0,"N/A",(INT(D35)*6+D35-INT(D35))/H35) -> N/A | N35: 19 | O35: 24 | P35: 24 | Q35: 24 | R35: 31
A36: Joe | B36: Quarello | C36: 1 | D36: 3 | H36: 0 | I36: 25 | J36: 0/25 | K36: =IF(H36=0,"No Avg.",I36/H36) -> No Avg. | L36: =IF(D36=0,"N/A",I36/D36) -> 8.3333333 | M36: =IF(H36=0,"N/A",(INT(D36)*6+D36-INT(D36))/H36) -> N/A | N36: 19 | O36: 24 | P36: 30 | Q36: 24 | R36: 20
A37: Ivan | B37: Gorridge | C37: 2 | D37: =3+1 -> 4 | F37: 1 | H37: 0 | I37: =38+5 -> 43 | J37: 0/38 | K37: =IF(H37=0,"No Avg.",I37/H37) -> No Avg. | L37: =IF(D37=0,"N/A",I37/D37) -> 10.75 | M37: =IF(H37=0,"N/A",(INT(D37)*6+D37-INT(D37))/H37) -> N/A | N37: 19 | O37: 24 | P37: 31 | Q37: 24 | R37: 16
A38: Chris | B38: Marsh | C38: 1 | D38: 2 | H38: 0 | I38: 22 | J38: 0/22 | K38: =IF(H38=0,"No Avg.",I38/H38) -> No Avg. | L38: =IF(D38=0,"N/A",I38/D38) -> 11 | M38: =IF(H38=0,"N/A",(INT(D38)*6+D38-INT(D38))/H38) -> N/A | N38: 19 | O38: 24 | P38: 32 | Q38: 24 | R38: 7
A39: Geoff | B39: Strudwick | C39: 1 | D39: 2 | G39: 1 | H39: 0 | I39: 26 | J39: 0/26 | K39: =IF(H39=0,"No Avg.",I39/H39) -> No Avg. | L39: =IF(D39=0,"N/A",I39/D39) -> 13 | M39: =IF(H39=0,"N/A",(INT(D39)*6+D39-INT(D39))/H39) -> N/A | N39: 19 | O39: 24 | P39: 33 | Q39: 24 | R39: 11
A40: Alex | B40: Nicholas | K40: =IF(H40=0,"No Avg.",I40/H40) -> No Avg. | L40: =IF(D40=0,"N/A",I40/D40) -> N/A | M40: =IF(H40=0,"N/A",(INT(D40)*6+D40-INT(D40))/H40) -> N/A | R40: 2
A41: Ben | B41: Shields | K41: =IF(H41=0,"No Avg.",I41/H41) -> No Avg. | L41: =IF(D41=0,"N/A",I41/D41) -> N/A | M41: =IF(H41=0,"N/A",(INT(D41)*6+D41-INT(D41))/H41) -> N/A | R41: 4
A42: Charlie | B42: Macdonald | K42: =IF(H42=0,"No Avg.",I42/H42) -> No Avg. | L42: =IF(D42=0,"N/A",I42/D42) -> N/A | M42: =IF(H42=0,"N/A",(INT(D42)*6+D42-INT(D42))/H42) -> N/A | R42: 6
...

Sheet Sheet3
